BEGIN:VCALENDAR
VERSION:2.0
PRODID:-//wp-events-plugin.com//7.2.3.1//EN
TZID:Europe/Berlin
X-WR-TIMEZONE:Europe/Berlin
BEGIN:VEVENT
UID:363@paderborner-hebamme.de
DTSTART;TZID=Europe/Berlin:20260825T170000
DTEND;TZID=Europe/Berlin:20260929T173000
DTSTAMP:20260419T071406Z
URL:https://www.paderborner-hebamme.de/kurse/babyschwimmen-pinguin-9-14-mo
 nate-6/
SUMMARY:Babyschwimmen Pinguin (9-14 Monate)
DESCRIPTION:
ATTACH;FMTTYPE=image/jpeg:https://www.paderborner-hebamme.de/wp-content/up
 loads/baby-entspannt-im-schwimmring-scaled.jpg
CATEGORIES:Babyschwimmen Pinguin
LOCATION:Klinik Martinusquelle\, An der Martinusquelle \, Bad Lippspringe\,
  Nordrhein-Westfalen\, 33175\, Kreis Paderborn\, Deutschland
GEO:51.786016;8.807453
X-APPLE-STRUCTURED-LOCATION;VALUE=URI;X-ADDRESS=An der Martinusquelle \, Ba
 d Lippspringe\, Nordrhein-Westfalen\, 33175\, Kreis Paderborn\, Deutschlan
 d;X-APPLE-RADIUS=100;X-TITLE=Klinik Martinusquelle:geo:51.786016,8.807453
END:VEVENT
BEGIN:VTIMEZONE
TZID:Europe/Berlin
X-LIC-LOCATION:Europe/Berlin
BEGIN:DAYLIGHT
DTSTART:20260329T030000
TZOFFSETFROM:+0100
TZOFFSETTO:+0200
TZNAME:CEST
END:DAYLIGHT
END:VTIMEZONE
END:VCALENDAR